BEGIN:VCALENDAR
VERSION:2.0
PRODID:-//DownEast Acadia - ECPv6.15.20//NONSGML v1.0//EN
CALSCALE:GREGORIAN
METHOD:PUBLISH
X-ORIGINAL-URL:https://downeastacadia.com
X-WR-CALDESC:Events for DownEast Acadia
REFRESH-INTERVAL;VALUE=DURATION:PT1H
X-Robots-Tag:noindex
X-PUBLISHED-TTL:PT1H
BEGIN:VTIMEZONE
TZID:America/New_York
BEGIN:DAYLIGHT
TZOFFSETFROM:-0500
TZOFFSETTO:-0400
TZNAME:EDT
DTSTART:20200308T070000
END:DAYLIGHT
BEGIN:STANDARD
TZOFFSETFROM:-0400
TZOFFSETTO:-0500
TZNAME:EST
DTSTART:20201101T060000
END:STANDARD
BEGIN:DAYLIGHT
TZOFFSETFROM:-0500
TZOFFSETTO:-0400
TZNAME:EDT
DTSTART:20210314T070000
END:DAYLIGHT
BEGIN:STANDARD
TZOFFSETFROM:-0400
TZOFFSETTO:-0500
TZNAME:EST
DTSTART:20211107T060000
END:STANDARD
BEGIN:DAYLIGHT
TZOFFSETFROM:-0500
TZOFFSETTO:-0400
TZNAME:EDT
DTSTART:20220313T070000
END:DAYLIGHT
BEGIN:STANDARD
TZOFFSETFROM:-0400
TZOFFSETTO:-0500
TZNAME:EST
DTSTART:20221106T060000
END:STANDARD
END:VTIMEZONE
BEGIN:VEVENT
DTSTART;VALUE=DATE:20210721
DTEND;VALUE=DATE:20210723
DTSTAMP:20260424T022734
CREATED:20210723T004152Z
LAST-MODIFIED:20210723T013953Z
UID:10000013-1626897600-1626983999@downeastacadia.com
SUMMARY:Annual Schoodic Scramble
DESCRIPTION:The twenty-third annual Schoodic Scramble charity golf event will be held on Saturday\, September 11\, 2021at the Grindstone Neck Golf Course in Winter Harbor. Participants will enjoy 18 holes of golf\, continental breakfast\, lobster stew\, ice cream sundaes\, wine\, cheese\, a tournament hat\, hole-in-one opportunity\, as well as prizes for men’s\, ladies’\, and couples flights. \nCommunity members are invited to attend and participate in the silent auction at the Scramble and enjoy some tasty lobster stew created and donated by D.C. Air & Seafood\, all while taking in breathtaking ocean views. \nProceeds from the Schoodic Scramble benefit the Eleanor Widener Dixon Memorial Clinic in Gouldsboro\, a primary care practice of Northern Light Maine Coast Hospital. Since 1997\, over $300\,000 has been raised further improve quality patient care. \nThank you to our presenting sponsors of the Schoodic Scramble\, Edith Dixon and Vicki and Alan Goldstein\, and special thanks to The Grindstone Association for their support and donation of the use of the golf course. \nTo become an event sponsor\, for further information about volunteering\, to participate as a golfer\, or to make a direct gift to the EWD Clinic\, contact JoAnn Brown at the info below.
URL:https://downeastacadia.com/event/annual-schoodic-scramble/
LOCATION:Grindstone Neck Golf Course\, 106 Grindstone Avenue\, Winter Harbor\, 04693\, United States
CATEGORIES:Community Event
ORGANIZER;CN="JoAnn Brown":MAILTO:joann.brown@northernlight.org
END:VEVENT
BEGIN:VEVENT
DTSTART;VALUE=DATE:20210722
DTEND;VALUE=DATE:20210724
DTSTAMP:20260424T022734
CREATED:20210723T004118Z
LAST-MODIFIED:20210723T200816Z
UID:10000005-1626966000-1627052399@downeastacadia.com
SUMMARY:Schoodic Arts For All Festival
DESCRIPTION:The 2021 Schoodic Arts Festival\, sponsored by Schoodic Arts for All\, runs from Aug. 2-15 at various locations throughout the Schoodic Peninsula. Performances\, workshops\, exhibits\, and community groups for all ages. \nDue to anticipated distancing requirements\, the number of spaces available in workshops will be limited. All workshops will adhere to gathering and distancing requirements at the time of the workshop. Locations are subject to change\, depending on current CDC guidelines. Face coverings will be required.
URL:https://downeastacadia.com/event/schoodic-arts-for-all/
CATEGORIES:Art & Culture,Community Event,Performing Arts
ORGANIZER;CN="The Schoodic Institute":MAILTO:pwolfe@schoodicinstitute.org
END:VEVENT
BEGIN:VEVENT
DTSTART;TZID=America/New_York:20210723T040000
DTEND;TZID=America/New_York:20210725T070000
DTSTAMP:20260424T022734
CREATED:20210723T004115Z
LAST-MODIFIED:20210723T195314Z
UID:10000004-1627012800-1627196400@downeastacadia.com
SUMMARY:Eastport ArtWalk Passport Weekend
DESCRIPTION:The Eastport ArtWalk Passport weekends continue to celebrate the arts the Way Downeast way. A full schedule of events and rain updates is found on Facebook. \nThe July ArtWalk Passport weekend opens downtown Eastport on Friday\, July 23rd with a slate of events sponsored by the Downeast Rainbow Alliance\, including an Art Installation Opening at the North Church from 5-9 p.m. and a Pride Dance Party in the Sutherland Amphitheater featuring crowd favorite “Beach Trash” from 6-8 p.m \nThe all-ages\, art-focused fun continues all day on Saturday in Eastport with gallery visits\, artist talks\, interactive art activities\, Celtic music with Moose Island House Players and bagpiper Kara McCrimmon at 2 p.m.\, the Stage East StorySlam at 4 p.m.\, and at dusk\, Moonlight movies present “Night at the Museum”. \nAdults and kids get their “passports” stamped at participating galleries or art activities to be eligible to win prizes following the StorySlam. The Passport weekend continues in Lubec on Sunday\, July 25th as visitors are encouraged to take the 12 noon Ferry from Eastport to Lubec\, then head to Stockford Park on South Water St. for the LAMPS summer concert series.
URL:https://downeastacadia.com/event/eastport-artwalk-passport-weekend-july/
LOCATION:Various Locations\, Eastport\, Maine\, United States
CATEGORIES:Art & Culture,Community Event
END:VEVENT
END:VCALENDAR