BEGIN:VCALENDAR
VERSION:2.0
PRODID:-//DownEast Acadia - ECPv6.15.20//NONSGML v1.0//EN
CALSCALE:GREGORIAN
METHOD:PUBLISH
X-ORIGINAL-URL:https://downeastacadia.com
X-WR-CALDESC:Events for DownEast Acadia
REFRESH-INTERVAL;VALUE=DURATION:PT1H
X-Robots-Tag:noindex
X-PUBLISHED-TTL:PT1H
BEGIN:VTIMEZONE
TZID:America/New_York
BEGIN:DAYLIGHT
TZOFFSETFROM:-0500
TZOFFSETTO:-0400
TZNAME:EDT
DTSTART:20200308T070000
END:DAYLIGHT
BEGIN:STANDARD
TZOFFSETFROM:-0400
TZOFFSETTO:-0500
TZNAME:EST
DTSTART:20201101T060000
END:STANDARD
BEGIN:DAYLIGHT
TZOFFSETFROM:-0500
TZOFFSETTO:-0400
TZNAME:EDT
DTSTART:20210314T070000
END:DAYLIGHT
BEGIN:STANDARD
TZOFFSETFROM:-0400
TZOFFSETTO:-0500
TZNAME:EST
DTSTART:20211107T060000
END:STANDARD
BEGIN:DAYLIGHT
TZOFFSETFROM:-0500
TZOFFSETTO:-0400
TZNAME:EDT
DTSTART:20220313T070000
END:DAYLIGHT
BEGIN:STANDARD
TZOFFSETFROM:-0400
TZOFFSETTO:-0500
TZNAME:EST
DTSTART:20221106T060000
END:STANDARD
END:VTIMEZONE
BEGIN:VEVENT
DTSTART;TZID=America/New_York:20210817T083000
DTEND;TZID=America/New_York:20210817T110000
DTSTAMP:20260424T012949
CREATED:20210723T004125Z
LAST-MODIFIED:20210810T203235Z
UID:10000008-1629189000-1629198000@downeastacadia.com
SUMMARY:Tall Tales\, Fish Tails and Damn Lies
DESCRIPTION:Maine Center for Coastal Fisheries is excited to bring back Tall Tales\, Fish Tails & Damn Lies\, an evening of music and words from a fishing community on Tuesday\, August 17 at the Reach Performing Arts Center in Deer Isle. Enjoy musical performances\, sea shanties\, and storytelling by Frank Gotwals\, Carl Karush\, Bill Schubeck\, Dennis Damon\, Paul Anderson\, and many more. Don’t miss this fun and lively evening\, which benefits MCCF\, a nonprofit securing a sustainable future for local fisheries and communities. General admission tickets are $25. Doors open at 5:30 pm\, show begins at 6:00 pm. Tickets can be purchased online at: talltales-fishtails.eventbrite.com
URL:https://downeastacadia.com/event/tall-tales/
LOCATION:Maine Center for Coastal Fisheries\, 249 N Deer Isle Road\, Deer Isle\, Maine\, 04627\, United States
CATEGORIES:Community Event,Performing Arts
ATTACH;FMTTYPE=image/jpeg:https://downeastacadia.com/wp-content/uploads/2021/07/TallTales205363371_4387786877939661_8388607574410441567_n.jpeg
ORGANIZER;CN="Maine Center for Coastal Fisheries":MAILTO:info@coastalfisheries.org
END:VEVENT
BEGIN:VEVENT
DTSTART;VALUE=DATE:20210826
DTEND;VALUE=DATE:20210829
DTSTAMP:20260424T012949
CREATED:20210723T004140Z
LAST-MODIFIED:20210810T202032Z
UID:10000012-1630008000-1630180799@downeastacadia.com
SUMMARY:Bucksport Arts Festival
DESCRIPTION:The Bucksport Arts Festival is an annual event held each August on the waterfront in beautiful Bucksport\, Maine where fine artisans and craftspeople will line the waterfront and display their wares for all to enjoy.
URL:https://downeastacadia.com/event/bucksport-arts-festival/
CATEGORIES:Art & Culture,Community Event
ATTACH;FMTTYPE=image/jpeg:https://downeastacadia.com/wp-content/uploads/2021/07/Bucksport38901205_1868605960114837_2762899118022983680_n.jpeg
ORGANIZER;CN="Main Street Bucksport":MAILTO:mary@mainstreetbucksport@gmail.com
END:VEVENT
BEGIN:VEVENT
DTSTART;TZID=America/New_York:20210827T090000
DTEND;TZID=America/New_York:20210828T170000
DTSTAMP:20260424T012949
CREATED:20210723T004139Z
LAST-MODIFIED:20210810T202743Z
UID:10000011-1630054800-1630170000@downeastacadia.com
SUMMARY:Eastport ArtWalk Passport Weekend
DESCRIPTION:Join us for the August Eastport ArtWalk Passport weekend as we continue to celebrate the arts the Way Downeast way. A full schedule of events and rain updates are available on our Facebook page. \nFriday events are sponsored by the Downeast Rainbow Alliance\, including art activities at Peavey Library\, happy hour at Horn Running Brewing\, and a Pride Dance Party in the Sutherland Amphitheater. The all-ages\, art-focused fun continues all day on Passport Saturdays in Eastport with gallery visits\, artist talks\, interactive art activities\, live music at 2 p.m.\, the Stage East StorySlam at 4 p.m.\, and at dusk\, Moonlight movies present “Star Wars – A New Hope”. \nGet your “passports” stamped at participating galleries to be eligible to win a $100 gift certificate at the Saturday afternoon drawing following the Stage East StorySlam. You need not be present to win. \n 
URL:https://downeastacadia.com/event/eastport-artwalk-passport-weekend-august/
LOCATION:Various Locations\, Eastport\, Maine\, United States
CATEGORIES:Art & Culture,Community Event
ATTACH;FMTTYPE=image/jpeg:https://downeastacadia.com/wp-content/uploads/2021/07/Eastport-Pasport226291805_190898973055040_8939111473384817103_n.jpeg
END:VEVENT
END:VCALENDAR