BEGIN:VCALENDAR
VERSION:2.0
PRODID:-//DownEast Acadia - ECPv6.15.20//NONSGML v1.0//EN
CALSCALE:GREGORIAN
METHOD:PUBLISH
X-ORIGINAL-URL:https://downeastacadia.com
X-WR-CALDESC:Events for DownEast Acadia
REFRESH-INTERVAL;VALUE=DURATION:PT1H
X-Robots-Tag:noindex
X-PUBLISHED-TTL:PT1H
BEGIN:VTIMEZONE
TZID:America/New_York
BEGIN:DAYLIGHT
TZOFFSETFROM:-0500
TZOFFSETTO:-0400
TZNAME:EDT
DTSTART:20240310T070000
END:DAYLIGHT
BEGIN:STANDARD
TZOFFSETFROM:-0400
TZOFFSETTO:-0500
TZNAME:EST
DTSTART:20241103T060000
END:STANDARD
BEGIN:DAYLIGHT
TZOFFSETFROM:-0500
TZOFFSETTO:-0400
TZNAME:EDT
DTSTART:20250309T070000
END:DAYLIGHT
BEGIN:STANDARD
TZOFFSETFROM:-0400
TZOFFSETTO:-0500
TZNAME:EST
DTSTART:20251102T060000
END:STANDARD
BEGIN:DAYLIGHT
TZOFFSETFROM:-0500
TZOFFSETTO:-0400
TZNAME:EDT
DTSTART:20260308T070000
END:DAYLIGHT
BEGIN:STANDARD
TZOFFSETFROM:-0400
TZOFFSETTO:-0500
TZNAME:EST
DTSTART:20261101T060000
END:STANDARD
END:VTIMEZONE
BEGIN:VEVENT
DTSTART;VALUE=DATE:20251002
DTEND;VALUE=DATE:20251006
DTSTAMP:20260421T112420
CREATED:20250919T150942Z
LAST-MODIFIED:20250919T150942Z
UID:10000026-1759363200-1759708799@downeastacadia.com
SUMMARY:Maine Craft Weekend
DESCRIPTION:ART OF ELLSWORTH: MAINE CRAFT WEEKEND is part of the statewide Maine Craft Weekend tour. Explore our historic downtown and experience its creative energy through live music\, theater\, craft demos\, workshops\, and so much more!
URL:https://downeastacadia.com/event/maine-craft-weekend/
LOCATION:Ellsworth\, Maine
CATEGORIES:Art & Culture,Community Event,Fairs & Festivals,Family Event
ATTACH;FMTTYPE=image/jpeg:https://downeastacadia.com/wp-content/uploads/2025/09/MCW-Banner.jpg
END:VEVENT
BEGIN:VEVENT
DTSTART;VALUE=DATE:20250925
DTEND;VALUE=DATE:20250928
DTSTAMP:20260421T112420
CREATED:20250919T151722Z
LAST-MODIFIED:20250919T151722Z
UID:10000027-1758758400-1759017599@downeastacadia.com
SUMMARY:Autumn Gold Festival
DESCRIPTION:The Autumn Gold Festival is Ellsworth’s beloved annual fall celebration\, hosted by the Ellsworth Area Chamber of Commerce. Held the last weekend in September\, this vibrant tradition brings together residents and visitors to enjoy the beauty of the season and the spirit of community. \nFrom festive activities to creative displays by local businesses and organizations\, Autumn Gold shines a spotlight on everything that makes Ellsworth special. The festival not only celebrates our community pride but also supports the Chamber’s mission to promote Ellsworth\, boost tourism\, and foster connections across our region.
URL:https://downeastacadia.com/event/autumn-gold-festival/
LOCATION:Ellsworth\, Maine
CATEGORIES:Community Event
ATTACH;FMTTYPE=image/jpeg:https://downeastacadia.com/wp-content/uploads/2025/09/JJ.jpg.jpeg
END:VEVENT
END:VCALENDAR